BEGIN:VCALENDAR
VERSION:2.0
PRODID:-//LO i Fredrikstad - ECPv6.10.1.1//NONSGML v1.0//EN
CALSCALE:GREGORIAN
METHOD:PUBLISH
X-WR-CALNAME:LO i Fredrikstad
X-ORIGINAL-URL:https://loifredrikstad.no
X-WR-CALDESC:Arrangement for LO i Fredrikstad
REFRESH-INTERVAL;VALUE=DURATION:PT1H
X-Robots-Tag:noindex
X-PUBLISHED-TTL:PT1H
BEGIN:VTIMEZONE
TZID:Europe/Oslo
BEGIN:DAYLIGHT
TZOFFSETFROM:+0100
TZOFFSETTO:+0200
TZNAME:CEST
DTSTART:20260329T010000
END:DAYLIGHT
BEGIN:STANDARD
TZOFFSETFROM:+0200
TZOFFSETTO:+0100
TZNAME:CET
DTSTART:20261025T010000
END:STANDARD
END:VTIMEZONE
BEGIN:VEVENT
DTSTART;TZID=Europe/Oslo:20260429T170000
DTEND;TZID=Europe/Oslo:20260429T210000
DTSTAMP:20260420T181312
CREATED:20260420T125635Z
LAST-MODIFIED:20260420T125635Z
UID:2663-1777482000-1777496400@loifredrikstad.no
SUMMARY:Arbeiderfestival 2026
DESCRIPTION:1.maikomiteen inviterer til en spennende kveld på St. Croix med fokus på lokaldemokrati\, faglige rettigheter og utenrikspolitikk. Fagbevegelsen markerer 1.mai internasjonal solidaritet\, demokrati og faglige rettigheter og inviterer til et oppspill til 1. mai 2026 i Fredrikstad. \n• PROGRAM • \n17:00 Oppmøte\, enkel servering og mingling\nMusikalsk innslag ved Perry (Per Jørgen Aarti Olsen) \n18:00 Hvordan skal vi ha det i morgendagens Fredrikstad kommune?\nOppspill fra Fagforbundet og Utdanningsforbundet.\nPaneldebatt: Ordfører\, kommunedirektør\, representanter for AP\,\nRødt og SV\, ledet av Frode Rekve.\nSpørsmål og dialog med salen. \n19:15 Utenrikspolitisk tema: Verdenssituasjonen sett fra venstresida\nInnlegg ved Bjørnar Moxnes\, stortingsrepresentant og medlem av\nutenrikskomiteen for Rødt og Barham Azadi\, fylkesleder Sosialistisk Venstreparti
URL:https://loifredrikstad.no/event/arbeiderfestival-2026/
LOCATION:St. Croix-huset\, St. Croix gate 16\, Fredrikstad\, 1607\, Norway
CATEGORIES:Arrangementer
ATTACH;FMTTYPE=image/png:https://loifredrikstad.no/wp-content/uploads/2026/04/arbeiderfestival2026-scaled.png
END:VEVENT
END:VCALENDAR