BEGIN:VCALENDAR
VERSION:2.0
PRODID:-//LO i Fredrikstad - ECPv6.10.1.1//NONSGML v1.0//EN
CALSCALE:GREGORIAN
METHOD:PUBLISH
X-WR-CALNAME:LO i Fredrikstad
X-ORIGINAL-URL:https://loifredrikstad.no
X-WR-CALDESC:Arrangement for LO i Fredrikstad
REFRESH-INTERVAL;VALUE=DURATION:PT1H
X-Robots-Tag:noindex
X-PUBLISHED-TTL:PT1H
BEGIN:VTIMEZONE
TZID:Europe/Oslo
BEGIN:DAYLIGHT
TZOFFSETFROM:+0100
TZOFFSETTO:+0200
TZNAME:CEST
DTSTART:20260329T010000
END:DAYLIGHT
BEGIN:STANDARD
TZOFFSETFROM:+0200
TZOFFSETTO:+0100
TZNAME:CET
DTSTART:20261025T010000
END:STANDARD
END:VTIMEZONE
BEGIN:VEVENT
DTSTART;TZID=Europe/Oslo:20260501T100000
DTEND;TZID=Europe/Oslo:20260501T103000
DTSTAMP:20260420T212944
CREATED:20260420T131439Z
LAST-MODIFIED:20260420T131439Z
UID:2672-1777629600-1777631400@loifredrikstad.no
SUMMARY:Bekransning av minnesmerke i Kirkeparken
DESCRIPTION:Minnemarkering i Kirkeparken 1. mai\nKl. 10:00 inviterer LO i Fredrikstad til en verdig markering ved Minnesmerket over de falne 1940–1945 i Kirkeparken. \nProgrammet består av: \n\nÅpning ved LO-leder i Fredrikstad\, Vidar Schei\nAppeller ved ungdomsrepresentanter fra AUF\, Sosialistisk Ungdom og NKP\nSang ved mannskoret Skiold\nBekransning av minnesmerket\n\nDette er en viktig stund for å hedre de som kjempet for frihet og demokrati – verdier som fortsatt står sterkt i arbeiderbevegelsen. \nAlle er hjertelig velkomne.
URL:https://loifredrikstad.no/event/bekransning-av-minnesmerke-i-kirkeparken/
LOCATION:Kirkeparken i Fredrikstad
CATEGORIES:Arrangementer
ATTACH;FMTTYPE=image/png:https://loifredrikstad.no/wp-content/uploads/2026/04/3d00288e-a963-4f17-9498-6dd3b92beef9.png
END:VEVENT
BEGIN:VEVENT
DTSTART;TZID=Europe/Oslo:20260501T113000
DTEND;TZID=Europe/Oslo:20260501T123000
DTSTAMP:20260420T212944
CREATED:20260420T132013Z
LAST-MODIFIED:20260420T132104Z
UID:2676-1777635000-1777638600@loifredrikstad.no
SUMMARY:Krigskirkegården på Østsiden
DESCRIPTION:Markering ved krigskirkegården på Østsiden\nKl. 11:30 inviterer NKP Østfold og LO i Fredrikstad til en verdig markering ved krigskirkegården på Østsiden\, til minne om de sovjetiske falne under andre verdenskrig. \nProgram: \n\nBekransning av minnesmerket\nBlomsterhilsen og appell ved LO i Fredrikstad\, ved Vidar Schei\nTale ved Dag Norum\, Østfold NKP\nOpplesning av dikt ved Hans G. Bonenberget\nMusikk ved Torsnes Brass\n\nVi hedrer de som ofret livet i kampen mot fascismen\, og løfter fram betydningen av fred\, solidaritet og internasjonalt samhold. \nAlle er hjertelig velkomne.
URL:https://loifredrikstad.no/event/krigskirkegarden-pa-ostsiden/
LOCATION:Krigskirkegården\, Torsnesveien 7\, Gamle Fredrikstad\, 1630
CATEGORIES:Arrangementer
ATTACH;FMTTYPE=image/png:https://loifredrikstad.no/wp-content/uploads/2026/04/3d00288e-a963-4f17-9498-6dd3b92beef9.png
END:VEVENT
BEGIN:VEVENT
DTSTART;TZID=Europe/Oslo:20260501T120000
DTEND;TZID=Europe/Oslo:20260501T140000
DTSTAMP:20260420T212944
CREATED:20260420T130312Z
LAST-MODIFIED:20260420T130312Z
UID:2669-1777636800-1777644000@loifredrikstad.no
SUMMARY:Gratis kino for barna på 1.mai 2026
DESCRIPTION:Fredrikstad Kino åpner dørene for de yngste også i år – og vi i LO i Fredrikstad er stolte av å videreføre en fin og viktig tradisjon: \nGratis barneforestilling 1. mai kl. 12:00\nI år viser vi filmen Håndbok for superhelter – en spennende og inspirerende historie som passer perfekt for barn og familier. \nDette skjer:\n\n Fra ca. kl. 11:30 vil representanter fra 1. mai-komiteen være til stede utenfor kinoen\n Gratis billetter deles ut på stedet\n Barna kan også få med seg noen hyggelige overraskelser\n\nEn dag for hele familien\n1.mai handler om fellesskap\, solidaritet og rettferdighet – men også om å skape gode opplevelser sammen. Derfor er vi glade for å kunne invitere til en hyggelig start på dagen for barnefamilier i Fredrikstad. \nAlt er helt gratis – det er bare å møte opp! \nVelkommen til kino og en fin 1. mai-opplevelse for små og store!
URL:https://loifredrikstad.no/event/gratis-kino-for-barna-pa-1-mai-2026/
LOCATION:Fredrikstad Kino\, Nygaardsgata 16\, Fredrikstad\, 1606
CATEGORIES:Arrangementer
ATTACH;FMTTYPE=image/png:https://loifredrikstad.no/wp-content/uploads/2026/04/Gratis-kino-2026.png
END:VEVENT
BEGIN:VEVENT
DTSTART;TZID=Europe/Oslo:20260501T180000
DTEND;TZID=Europe/Oslo:20260501T210000
DTSTAMP:20260420T212944
CREATED:20260420T125944Z
LAST-MODIFIED:20260420T125944Z
UID:2667-1777658400-1777669200@loifredrikstad.no
SUMMARY:Kunst\, Kultur og Arbeiderhistorie
DESCRIPTION:1. mai-kveld med kunst\, kultur og arbeidersjel\nScandic City Fredrikstad blir samlingspunktet for en kveld fylt med kultur\, historie og ekte arbeiderånd når LO i Fredrikstad inviterer til en rikholdig markering 1. mai. \nKl. 18:00 – Åpning av kunstutstilling\nKvelden starter med åpningen av kunstutstillingen «Industriarbeidsplasser i Fredrikstad» i hotellets frokostsal. \nUtstillingen løfter fram historien\, stoltheten og betydningen av industriarbeidsplassene i byen vår – grunnmuren for mye av det samfunnet vi kjenner i dag. \nÅpningen foretas av Lloyd Forbes. \nGratis inngang – alle er velkomne \nKl. 19:00 – Kulturkveld på City Scene\nFra ca. kl. 18:30 åpner dørene til City Scene\, før kvelden virkelig setter seg i bevegelse fra kl. 19:00. \nHer blir det et variert og sterkt kulturprogram med: \n\nMannskoret Skiold\nErik-André Hvidsten\nAndrea W. Johansen\nBjørn Halstensen\n\nKvelden byr på sang\, musikk\, lyrikk og allsang\, og en egen hyllest til Erik Bye i anledning hans 100-årsjubileum. \nEn kveld for fellesskapet\nDette er ikke bare et arrangement – det er en påminnelse om hva arbeiderkulturen betyr:\nfellesskap\, historie\, kamp og glede. \nArrangementet er et samarbeid mellom LO i Fredrikstad og Arbeiderbevegelsens kulturnettverk. \nAlt er gratis – det er bare å møte opp \nVelkommen til en kveld som både hedrer fortida og bygger fellesskap for framtida.
URL:https://loifredrikstad.no/event/kunst-kultur-og-arbeiderhistorie/
LOCATION:Scandic City\, Fredrikstad\, Gunnar Nilsens Gate 9\, Fredrikstad\, 1607
CATEGORIES:Arrangementer
ATTACH;FMTTYPE=image/png:https://loifredrikstad.no/wp-content/uploads/2026/04/city-scene-1.mai2026-1-scaled.png
END:VEVENT
END:VCALENDAR