BEGIN:VCALENDAR
VERSION:2.0
PRODID:-//LO i Fredrikstad - ECPv6.10.1.1//NONSGML v1.0//EN
CALSCALE:GREGORIAN
METHOD:PUBLISH
X-WR-CALNAME:LO i Fredrikstad
X-ORIGINAL-URL:https://loifredrikstad.no
X-WR-CALDESC:Arrangement for LO i Fredrikstad
REFRESH-INTERVAL;VALUE=DURATION:PT1H
X-Robots-Tag:noindex
X-PUBLISHED-TTL:PT1H
BEGIN:VTIMEZONE
TZID:Europe/Oslo
BEGIN:DAYLIGHT
TZOFFSETFROM:+0100
TZOFFSETTO:+0200
TZNAME:CEST
DTSTART:20240331T010000
END:DAYLIGHT
BEGIN:STANDARD
TZOFFSETFROM:+0200
TZOFFSETTO:+0100
TZNAME:CET
DTSTART:20241027T010000
END:STANDARD
END:VTIMEZONE
BEGIN:VEVENT
DTSTART;VALUE=DATE:20241005
DTEND;VALUE=DATE:20241006
DTSTAMP:20260420T135518
CREATED:20241003T125745Z
LAST-MODIFIED:20241003T125839Z
UID:2112-1728086400-1728172799@loifredrikstad.no
SUMMARY:Event Fredrikstad
DESCRIPTION:Her kommer det informasjon om vårt event i Fredrikstad. Her kan alle bli med. Vi står å tar i mot alle som vil snakke eller har spørsmål rundt hva vi holder på med.
URL:https://loifredrikstad.no/event/event-fredrikstad/
CATEGORIES:Arrangementer
ATTACH;FMTTYPE=image/jpeg:https://loifredrikstad.no/wp-content/uploads/2024/07/a-small-norwegian-flag-flying-in-front-of-a-cloudy-2023-11-27-04-56-27-utc.jpg
END:VEVENT
END:VCALENDAR