BEGIN:VCALENDAR
VERSION:2.0
PRODID:-//LO i Fredrikstad - ECPv6.10.1.1//NONSGML v1.0//EN
CALSCALE:GREGORIAN
METHOD:PUBLISH
X-WR-CALNAME:LO i Fredrikstad
X-ORIGINAL-URL:https://loifredrikstad.no
X-WR-CALDESC:Arrangement for LO i Fredrikstad
REFRESH-INTERVAL;VALUE=DURATION:PT1H
X-Robots-Tag:noindex
X-PUBLISHED-TTL:PT1H
BEGIN:VTIMEZONE
TZID:Europe/Oslo
BEGIN:DAYLIGHT
TZOFFSETFROM:+0100
TZOFFSETTO:+0200
TZNAME:CEST
DTSTART:20250330T010000
END:DAYLIGHT
BEGIN:STANDARD
TZOFFSETFROM:+0200
TZOFFSETTO:+0100
TZNAME:CET
DTSTART:20251026T010000
END:STANDARD
END:VTIMEZONE
BEGIN:VEVENT
DTSTART;TZID=Europe/Oslo:20250422T170000
DTEND;TZID=Europe/Oslo:20250422T200000
DTSTAMP:20260421T095344
CREATED:20250422T123247Z
LAST-MODIFIED:20250422T123428Z
UID:2600-1745341200-1745352000@loifredrikstad.no
SUMMARY:Norges Handikapforbund Fredrikstad - Arbeiderfestivalen 2025
DESCRIPTION:Hva er CRPD?\nOg hvorfor er det viktig å få\ndet inn i norsk lov?\nÅpent møte\, der Sverre Bergenholdt vil innlede rundt temaet CRPD\, og det arbeidet som gjøres for å få CRPD inn i norsk lov.
URL:https://loifredrikstad.no/event/arbeiderfestivalen-2025/
LOCATION:Lisleby Samfunnshus\, Ole Hansensvei 9\, Fredrikstad\, Østfold\, 1619\, Norway
CATEGORIES:Arrangementer
ATTACH;FMTTYPE=image/png:https://loifredrikstad.no/wp-content/uploads/2025/04/Arbeiderfestivalen2025-NHFFredrikstad-liten2.png
END:VEVENT
END:VCALENDAR